BEGIN:VCALENDAR
VERSION:2.0
PRODID:-//Toxicology Program - ECPv6.15.20//NONSGML v1.0//EN
CALSCALE:GREGORIAN
METHOD:PUBLISH
X-ORIGINAL-URL:https://tox.sciences.ncsu.edu
X-WR-CALDESC:Events for Toxicology Program
REFRESH-INTERVAL;VALUE=DURATION:PT1H
X-Robots-Tag:noindex
X-PUBLISHED-TTL:PT1H
BEGIN:VTIMEZONE
TZID:America/New_York
BEGIN:DAYLIGHT
TZOFFSETFROM:-0500
TZOFFSETTO:-0400
TZNAME:EDT
DTSTART:20250309T070000
END:DAYLIGHT
BEGIN:STANDARD
TZOFFSETFROM:-0400
TZOFFSETTO:-0500
TZNAME:EST
DTSTART:20251102T060000
END:STANDARD
BEGIN:DAYLIGHT
TZOFFSETFROM:-0500
TZOFFSETTO:-0400
TZNAME:EDT
DTSTART:20260308T070000
END:DAYLIGHT
BEGIN:STANDARD
TZOFFSETFROM:-0400
TZOFFSETTO:-0500
TZNAME:EST
DTSTART:20261101T060000
END:STANDARD
BEGIN:DAYLIGHT
TZOFFSETFROM:-0500
TZOFFSETTO:-0400
TZNAME:EDT
DTSTART:20270314T070000
END:DAYLIGHT
BEGIN:STANDARD
TZOFFSETFROM:-0400
TZOFFSETTO:-0500
TZNAME:EST
DTSTART:20271107T060000
END:STANDARD
END:VTIMEZONE
BEGIN:VEVENT
DTSTART;TZID=America/New_York:20260421T151500
DTEND;TZID=America/New_York:20260421T161500
DTSTAMP:20260419T194955
CREATED:20260107T162131Z
LAST-MODIFIED:20260121T201823Z
UID:10000153-1776784500-1776788100@tox.sciences.ncsu.edu
SUMMARY:Dr. Caroline Smith\, Boston College
DESCRIPTION:Microglia and microbiota as organizers of social brain circuits following prenatal toxicant exposures \nhttps://tinyurl.com/ToxSpring26 \npasscode 720919 \nThis seminar is co-sponsored by CHHE Behavior and Neuroscience Group
URL:https://tox.sciences.ncsu.edu/event/dr-caroline-smith-boston-college/
LOCATION:Toxicology Auditorium 2104
CATEGORIES:General Events,Seminar Series
ATTACH;FMTTYPE=image/jpeg:https://tox.sciences.ncsu.edu/wp-content/uploads/sites/464/2026/01/Smith_Caroline.jpg
END:VEVENT
BEGIN:VEVENT
DTSTART;TZID=America/New_York:20260428T151500
DTEND;TZID=America/New_York:20260428T161500
DTSTAMP:20260419T194955
CREATED:20260107T160435Z
LAST-MODIFIED:20260121T201708Z
UID:10000150-1777389300-1777392900@tox.sciences.ncsu.edu
SUMMARY:Dr. Katie Baldwin\, UNC
DESCRIPTION:Molecular organization of astrocycte connectivity \nhttps://tinyurl.com/ToxSpring26 \npasscode 720919
URL:https://tox.sciences.ncsu.edu/event/dr-katie-baldwin-unc/
LOCATION:Toxicology Auditorium 2104
CATEGORIES:General Events,Seminar Series
ATTACH;FMTTYPE=image/jpeg:https://tox.sciences.ncsu.edu/wp-content/uploads/sites/464/2026/01/Baldwin-Katie.jpg
END:VEVENT
BEGIN:VEVENT
DTSTART;TZID=America/New_York:20260501T150000
DTEND;TZID=America/New_York:20260501T190000
DTSTAMP:20260419T194955
CREATED:20260324T121809Z
LAST-MODIFIED:20260324T162201Z
UID:10000162-1777647600-1777662000@tox.sciences.ncsu.edu
SUMMARY:Dr. Natalia Duque-Wilckens Memorial Symposium
DESCRIPTION:Friday\, May 1 at 3:00pm\, we will celebrate and honor the academic work of Dr. Natalia Duque-Wilckens in the York Auditorium of the JC Raulston Arboretum. \nPlease RSVP here.
URL:https://tox.sciences.ncsu.edu/event/dr-natalia-duque-wilckens-memorial-symposium/
LOCATION:JC Raulston Arborteum\, 4415 Beryl Road\, Raleigh\, NC\, 27606\, United States
CATEGORIES:General Events
ATTACH;FMTTYPE=image/jpeg:https://tox.sciences.ncsu.edu/wp-content/uploads/sites/464/2026/03/MAH2946-scaled.jpg
END:VEVENT
BEGIN:VEVENT
DTSTART;TZID=America/New_York:20260708T080000
DTEND;TZID=America/New_York:20260710T170000
DTSTAMP:20260419T194955
CREATED:20260321T200032Z
LAST-MODIFIED:20260321T200048Z
UID:10000161-1783497600-1783702800@tox.sciences.ncsu.edu
SUMMARY:10th Annual US DOHaD Meeting
DESCRIPTION:Cumulative Stressors and Lifelong Health \n 
URL:https://tox.sciences.ncsu.edu/event/10th-annual-us-dohad-meeting/
LOCATION:The Stateview Hotel\, 2451 Alumni Dr\, Raleigh\, NC\, 27606\, United States
CATEGORIES:General Events
ATTACH;FMTTYPE=image/jpeg:https://tox.sciences.ncsu.edu/wp-content/uploads/sites/464/2026/03/US-DOHaD-2026-Annual-Meeting-Agenda_Page_1.jpg
END:VEVENT
END:VCALENDAR